BEGIN:VCALENDAR
VERSION:2.0
PRODID:-//Squarespace Inc/Squarespace 6//v6//EN
BEGIN:VEVENT
UID:587684f915d5dbd420ef145f@squarespace.com
DTSTAMP:20170111T191904Z
DTSTART:20170608T213000Z
DTEND:20170608T223000Z
SUMMARY:Peoria Unit
GEO:41.984519;-88.142876
LOCATION:VFW 2602\, 1505 E. Lake St.\, Peoria Heights\, IL
END:VEVENT
END:VCALENDAR
