BEGIN:VCALENDAR
VERSION:2.0
PRODID:-//Squarespace Inc/Squarespace 6//v6//EN
BEGIN:VEVENT
UID:58768359b8a79b2d1ae009dc@squarespace.com
DTSTAMP:20170111T191159Z
DTSTART:20170607T210000Z
DTEND:20170607T220000Z
SUMMARY:Lincoln Unit
GEO:40.140096;-89.348783
LOCATION:KC Hall\, 217 Limit Street\, Lincoln\, IL\, 62656\, United States
END:VEVENT
END:VCALENDAR
