BEGIN:VCALENDAR
VERSION:2.0
PRODID:-//Squarespace Inc/Squarespace 6//v6//EN
BEGIN:VEVENT
UID:5876832320099e329de0ee84@squarespace.com
DTSTAMP:20170111T191107Z
DTSTART:20170607T200000Z
DTEND:20170607T210000Z
SUMMARY:Clinton Unit
GEO:38.646298;-94.335936
LOCATION:Elks Lodge #785\, 1520 E. South St.\, Clinton\, IL
END:VEVENT
END:VCALENDAR
