BEGIN:VCALENDAR
VERSION:2.0
PRODID:-//Squarespace Inc/Squarespace 6//v6//EN
BEGIN:VEVENT
UID:587682d75016e1b7342ac6b8@squarespace.com
DTSTAMP:20170111T191001Z
DTSTART:20170606T210000Z
DTEND:20170606T220000Z
SUMMARY:Galesburg Unit
GEO:40.951224;-90.361005
LOCATION:American Legion Post 285\, 571 E. North\, Galesburg\, IL
END:VEVENT
END:VCALENDAR
