BEGIN:VCALENDAR
VERSION:2.0
PRODID:-//Squarespace Inc/Squarespace 6//v6//EN
BEGIN:VEVENT
UID:5876817946c3c45b23bbaa28@squarespace.com
DTSTAMP:20170111T190434Z
DTSTART:20170603T130000Z
DTEND:20170603T140000Z
SUMMARY:Local 51 Golf Scholarship Outing
GEO:39.696467;-89.700203
LOCATION:Piper Glen Golf Course\, 7112 Piper Glen Drive\, Springfield\, IL\
 , 62711\, United States
END:VEVENT
END:VCALENDAR
