BEGIN:VCALENDAR
VERSION:2.0
PRODID:-//Squarespace Inc/Squarespace 6//v6//EN
BEGIN:VEVENT
UID:587681d1a5790aaa1096ca9d@squarespace.com
DTSTAMP:20170111T190736Z
DTSTART:20170603T130000Z
DTEND:20170603T170000Z
SUMMARY:ALBAT Training
GEO:39.841698;-88.91482
LOCATION:Ameren\, 231 South 27th Street\, Decatur\, IL\, 62521\, United Sta
 tes
END:VEVENT
END:VCALENDAR
