BEGIN:VCALENDAR
VERSION:2.0
PRODID:-//Squarespace Inc/Squarespace 6//v6//EN
BEGIN:VEVENT
UID:5876879a17bffc46dbe59c62@squarespace.com
DTSTAMP:20170112T155705Z
DTSTART:20170621T040000Z
DTEND:20170621T050000Z
SUMMARY:Summer Solstice
END:VEVENT
END:VCALENDAR
