BEGIN:VCALENDAR
VERSION:2.0
PRODID:-//Squarespace Inc/Squarespace 6//v6//EN
BEGIN:VEVENT
UID:58768761f7e0ab30296f0795@squarespace.com
DTSTAMP:20170112T155647Z
DTSTART:20170618T040000Z
DTEND:20170618T050000Z
SUMMARY:Fathers Day
END:VEVENT
END:VCALENDAR
