BEGIN:VCALENDAR
VERSION:2.0
PRODID:-//Squarespace Inc/Squarespace 6//v6//EN
BEGIN:VEVENT
UID:5876869bcd0f689c9815692e@squarespace.com
DTSTAMP:20170111T192548Z
DTSTART:20170614T200000Z
DTEND:20170614T210000Z
SUMMARY:Baldwin Unit
GEO:38.325745;-89.878519
LOCATION:The Bullpen\, 101 North Van Buren Street\, New Athens\, IL\, 62264
 \, United States
END:VEVENT
END:VCALENDAR
