BEGIN:VCALENDAR
VERSION:2.0
PRODID:-//Squarespace Inc/Squarespace 6//v6//EN
BEGIN:VEVENT
UID:5876814a15d5dbd420eed454@squarespace.com
DTSTAMP:20170111T190308Z
DTSTART:20170601T213000Z
DTEND:20170601T223000Z
SUMMARY:Springfield Unit
GEO:39.743519;-89.714882
LOCATION:IBEW Local 51\, 3171 Green Head Drive\, Springfield\, IL\, 62711\, 
 United States
END:VEVENT
END:VCALENDAR
