BEGIN:VCALENDAR
VERSION:2.0
PRODID:-//Squarespace Inc/Squarespace 6//v6//EN
BEGIN:VEVENT
UID:58767854d2b857680058086c@squarespace.com
DTSTAMP:20170111T182451Z
DTSTART:20170504T213000Z
DTEND:20170504T223000Z
SUMMARY:Springfield Unit
GEO:39.743519;-89.714882
LOCATION:IBEW Local 51\, 3171 Green Head Drive\, Springfield\, IL\, 62711\, 
 United States
END:VEVENT
END:VCALENDAR
