BEGIN:VCALENDAR
VERSION:2.0
PRODID:-//Squarespace Inc/Squarespace 6//v6//EN
BEGIN:VEVENT
UID:587677b26a49630b1d300430@squarespace.com
DTSTAMP:20170111T182219Z
DTSTART:20170503T210000Z
DTEND:20170503T220000Z
SUMMARY:Lincoln Unit
GEO:40.140096;-89.348783
LOCATION:KC Hall\, 217 Limit Street\, Lincoln\, IL\, 62656\, United States
END:VEVENT
END:VCALENDAR
