BEGIN:VCALENDAR
VERSION:2.0
PRODID:-//Squarespace Inc/Squarespace 6//v6//EN
BEGIN:VEVENT
UID:58767c4d2e69cfd9032c2c4d@squarespace.com
DTSTAMP:20170111T184201Z
DTSTART:20170529T040000Z
DTEND:20170529T050000Z
SUMMARY:Office Closed Memorial Day
END:VEVENT
END:VCALENDAR
