BEGIN:VCALENDAR
VERSION:2.0
PRODID:-//Squarespace Inc/Squarespace 6//v6//EN
BEGIN:VEVENT
UID:58767b923a0411deadd46cc9@squarespace.com
DTSTAMP:20170111T184552Z
DTSTART:20170520T130000Z
DTEND:20170520T170000Z
SUMMARY:Executive Board
GEO:39.743519;-89.714882
LOCATION:IBEW Local 51\, 3171 Green Head Drive\, Springfield\, IL\, 62711\, 
 United States
END:VEVENT
END:VCALENDAR
