BEGIN:VCALENDAR
VERSION:2.0
PRODID:-//Squarespace Inc/Squarespace 6//v6//EN
BEGIN:VEVENT
UID:587675c7db29d6ab1b40bf25@squarespace.com
DTSTAMP:20170111T181405Z
DTSTART:20170502T200000Z
DTEND:20170502T210000Z
SUMMARY:Havana Unit
GEO:42.162531;-94.203785
LOCATION:VFW\, 425 W. Ave\, Havana\, IL
END:VEVENT
END:VCALENDAR
