BEGIN:VCALENDAR
VERSION:2.0
PRODID:-//Squarespace Inc/Squarespace 6//v6//EN
BEGIN:VEVENT
UID:587675fb86e6c0df08fa3038@squarespace.com
DTSTAMP:20170111T181504Z
DTSTART:20170502T210000Z
DTEND:20170502T220000Z
SUMMARY:Galesburg Unit
GEO:40.951224;-90.361005
LOCATION:American Legion Post 285\, 571 E. North\, Galesburg\, IL
END:VEVENT
END:VCALENDAR
