BEGIN:VCALENDAR
VERSION:2.0
PRODID:-//Squarespace Inc/Squarespace 6//v6//EN
BEGIN:VEVENT
UID:58767b25579fb3ba209b7132@squarespace.com
DTSTAMP:20170111T184536Z
DTSTART:20170514T040000Z
DTEND:20170514T050000Z
SUMMARY:Mother's Day
END:VEVENT
END:VCALENDAR
