BEGIN:VCALENDAR
VERSION:2.0
PRODID:-//Squarespace Inc/Squarespace 6//v6//EN
BEGIN:VEVENT
UID:5876661029687f9d498e4c99@squarespace.com
DTSTAMP:20170111T170710Z
DTSTART:20170405T200000Z
DTEND:20170405T210000Z
SUMMARY:Clinton Unit
GEO:38.646298;-94.335936
LOCATION:Elks Lodge #785\, 1520 E. South St.\, Clinton\, IL
END:VEVENT
END:VCALENDAR
