BEGIN:VCALENDAR
VERSION:2.0
PRODID:-//Squarespace Inc/Squarespace 6//v6//EN
BEGIN:VEVENT
UID:587665516b8f5bb410367b01@squarespace.com
DTSTAMP:20170111T170406Z
DTSTART:20170403T040000Z
DTEND:20170403T050000Z
SUMMARY:SECOND QUARTER UNION DUES
END:VEVENT
END:VCALENDAR
