BEGIN:VCALENDAR
VERSION:2.0
PRODID:-//Squarespace Inc/Squarespace 6//v6//EN
BEGIN:VEVENT
UID:587673c43e00be27331a098d@squarespace.com
DTSTAMP:20170111T184420Z
DTSTART:20170422T130000Z
DTEND:20170422T170000Z
SUMMARY:Executive Board
GEO:39.743519;-89.714882
LOCATION:IBEW Local 51\, 3171 Green Head Drive\, Springfield\, IL\, 62711\, 
 United States
END:VEVENT
END:VCALENDAR
