BEGIN:VCALENDAR
VERSION:2.0
PRODID:-//Squarespace Inc/Squarespace 6//v6//EN
BEGIN:VEVENT
UID:58c6bc9ee58c62bef0ab9ca2@squarespace.com
DTSTAMP:20170313T153759Z
DTSTART:20170420T180000Z
DTEND:20170420T220000Z
SUMMARY:New Steward Training
GEO:40.695035;-89.586488
LOCATION:Peoria Labor Temple
END:VEVENT
END:VCALENDAR
