BEGIN:VCALENDAR
VERSION:2.0
PRODID:-//Squarespace Inc/Squarespace 6//v6//EN
BEGIN:VEVENT
UID:58c6bc701b10e3fe89fabba3@squarespace.com
DTSTAMP:20170313T153649Z
DTSTART:20170419T170000Z
DTEND:20170419T210000Z
SUMMARY:New Steward Training
GEO:38.673065;-90.014011
LOCATION:IBEW Local 309\, 2000A Mall Street\, Collinsville\, IL\, 62234\, U
 nited States
END:VEVENT
END:VCALENDAR
