BEGIN:VCALENDAR
VERSION:2.0
PRODID:-//Squarespace Inc/Squarespace 6//v6//EN
BEGIN:VEVENT
UID:58767354ebbd1a720cce1517@squarespace.com
DTSTAMP:20170112T155534Z
DTSTART:20170416T040000Z
DTEND:20170416T050000Z
SUMMARY:Easter
END:VEVENT
END:VCALENDAR
