BEGIN:VCALENDAR
VERSION:2.0
PRODID:-//Squarespace Inc/Squarespace 6//v6//EN
BEGIN:VEVENT
UID:58767299a5790aaa1095b864@squarespace.com
DTSTAMP:20170111T180036Z
DTSTART:20170414T040000Z
DTEND:20170414T050000Z
SUMMARY:OFFICE CLOSED
END:VEVENT
END:VCALENDAR
