BEGIN:VCALENDAR
VERSION:2.0
PRODID:-//Squarespace Inc/Squarespace 6//v6//EN
BEGIN:VEVENT
UID:58c6bc3d1b631bea2c4bf514@squarespace.com
DTSTAMP:20170313T153607Z
DTSTART:20170413T160000Z
DTEND:20170413T191500Z
SUMMARY:New Steward Training
GEO:39.884232;-88.9355
LOCATION:IBEW Local 146\, 3390 North Woodford Street\, Decatur\, IL\, 62526
 \, United States
END:VEVENT
END:VCALENDAR
