BEGIN:VCALENDAR
VERSION:2.0
PRODID:-//Squarespace Inc/Squarespace 6//v6//EN
BEGIN:VEVENT
UID:587670eccd0f689c9813dff6@squarespace.com
DTSTAMP:20170111T175513Z
DTSTART:20170413T193000Z
DTEND:20170413T203000Z
SUMMARY:Decatur Unit
GEO:39.884232;-88.9355
LOCATION:IBEW Local 146\, 3390 North Woodford Street\, Decatur\, IL\, 62526
 \, United States
END:VEVENT
END:VCALENDAR
