BEGIN:VCALENDAR
VERSION:2.0
PRODID:-//Squarespace Inc/Squarespace 6//v6//EN
BEGIN:VEVENT
UID:58c6bc0b8419c2ae2b093107@squarespace.com
DTSTAMP:20170313T154054Z
DTSTART:20170412T180000Z
DTEND:20170412T220000Z
SUMMARY:New Steward Training
END:VEVENT
END:VCALENDAR
