BEGIN:VCALENDAR
VERSION:2.0
PRODID:-//Squarespace Inc/Squarespace 6//v6//EN
BEGIN:VEVENT
UID:58764facf7e0ab0abda06462@squarespace.com
DTSTAMP:20170111T153129Z
DTSTART:20170309T003000Z
DTEND:20170309T013000Z
SUMMARY:Jacksonville Unit
GEO:40.720756;-74.000761
LOCATION:AmVets Post 100\, 210 East Court Street\, Jacksonville\, IL\, 6265
 0\, United States
END:VEVENT
END:VCALENDAR
