BEGIN:VCALENDAR
VERSION:2.0
PRODID:-//Squarespace Inc/Squarespace 6//v6//EN
BEGIN:VEVENT
UID:58764f73e4fcb509a523d539@squarespace.com
DTSTAMP:20170111T153037Z
DTSTART:20170308T210000Z
DTEND:20170308T220000Z
SUMMARY:Baldwin Unit
GEO:38.325745;-89.878519
LOCATION:The Bullpen\, 101 North Van Buren Street\, New Athens\, IL\, 62264
 \, United States
END:VEVENT
END:VCALENDAR
