BEGIN:VCALENDAR
VERSION:2.0
PRODID:-//Squarespace Inc/Squarespace 6//v6//EN
BEGIN:VEVENT
UID:58764f32725e25df434102ac@squarespace.com
DTSTAMP:20170111T152938Z
DTSTART:20170307T220000Z
DTEND:20170307T230000Z
SUMMARY:Galesburg Unit
GEO:40.951224;-90.361005
LOCATION:American Legion Post 285\, 571 E. North\, Galesburg\, IL
END:VEVENT
END:VCALENDAR
