BEGIN:VCALENDAR
VERSION:2.0
PRODID:-//Squarespace Inc/Squarespace 6//v6//EN
BEGIN:VEVENT
UID:5876545d17bffc46dbe238b3@squarespace.com
DTSTAMP:20170112T155512Z
DTSTART:20170320T040000Z
DTEND:20170320T050000Z
SUMMARY:First Day of Spring
END:VEVENT
END:VCALENDAR
