BEGIN:VCALENDAR
VERSION:2.0
PRODID:-//Squarespace Inc/Squarespace 6//v6//EN
BEGIN:VEVENT
UID:58764da5d2b857338b8b6c9b@squarespace.com
DTSTAMP:20170111T152310Z
DTSTART:20170302T220000Z
DTEND:20170302T230000Z
SUMMARY:Wood River Unit
GEO:38.673065;-90.014011
LOCATION:IBEW Local 309\, 2000A Mall Street\, Collinsville\, IL\, 62234\, U
 nited States
END:VEVENT
END:VCALENDAR
