BEGIN:VCALENDAR
VERSION:2.0
PRODID:-//Squarespace Inc/Squarespace 6//v6//EN
BEGIN:VEVENT
UID:58764e2ad1758e6efb01d4fc@squarespace.com
DTSTAMP:20170111T152615Z
DTSTART:20170302T170000Z
DTEND:20170302T180000Z
SUMMARY:Peoria Unit Fish Fry
GEO:43.104957;-88.360474
LOCATION:KC Hall\, Hill St\, Peoria\, IL
END:VEVENT
END:VCALENDAR
