BEGIN:VCALENDAR
VERSION:2.0
PRODID:-//Squarespace Inc/Squarespace 6//v6//EN
BEGIN:VEVENT
UID:587653cf5016e196ea770310@squarespace.com
DTSTAMP:20170220T194558Z
DTSTART:20170325T130000Z
DTEND:20170325T160000Z
SUMMARY:Executive Board
GEO:39.743519;-89.714882
LOCATION:IBEW Local 51\, 3171 Green Head Drive\, Springfield\, IL\, 62711\, 
 United States
END:VEVENT
END:VCALENDAR
