BEGIN:VCALENDAR
VERSION:2.0
PRODID:-//Squarespace Inc/Squarespace 6//v6//EN
BEGIN:VEVENT
UID:58765276bf629a8deadff9e7@squarespace.com
DTSTAMP:20170111T154330Z
DTSTART:20170317T040000Z
DTEND:20170317T050000Z
SUMMARY:St. Patrick's Day
END:VEVENT
END:VCALENDAR
