BEGIN:VCALENDAR
VERSION:2.0
PRODID:-//Squarespace Inc/Squarespace 6//v6//EN
BEGIN:VEVENT
UID:58765100d1758e6efb020034@squarespace.com
DTSTAMP:20170111T153702Z
DTSTART:20170312T060000Z
DTEND:20170312T070000Z
SUMMARY:Daylight Savings Time Begins 2am
END:VEVENT
END:VCALENDAR
