BEGIN:VCALENDAR
VERSION:2.0
PRODID:-//Squarespace Inc/Squarespace 6//v6//EN
BEGIN:VEVENT
UID:587650c6be659497fb45f363@squarespace.com
DTSTAMP:20170111T153619Z
DTSTART:20170311T140000Z
DTEND:20170311T180000Z
SUMMARY:ALBAT Training
GEO:39.841698;-88.91482
LOCATION:Ameren\, 231 South 27th Street\, Decatur\, IL\, 62521\, United Sta
 tes
END:VEVENT
END:VCALENDAR
