BEGIN:VCALENDAR
VERSION:2.0
PRODID:-//Squarespace Inc/Squarespace 6//v6//EN
BEGIN:VEVENT
UID:58764ce56b8f5bb4103502c4@squarespace.com
DTSTAMP:20170111T151945Z
DTSTART:20170301T210000Z
DTEND:20170301T220000Z
SUMMARY:Clinton Unit
GEO:38.646298;-94.335936
LOCATION:Elk's Lodge #785\, 1520 E. South St.\, Clinton\, IL
END:VEVENT
END:VCALENDAR
