BEGIN:VCALENDAR
VERSION:2.0
PRODID:-//Squarespace Inc/Squarespace 6//v6//EN
BEGIN:VEVENT
UID:58751aef29687fd11bed2719@squarespace.com
DTSTAMP:20170110T173417Z
DTSTART:20170209T223000Z
DTEND:20170209T233000Z
SUMMARY:Peoria Unit
GEO:41.984519;-88.142876
LOCATION:VFW 2602\, 1505 E. Lake St.\, Peoria Heights\, IL
END:VEVENT
END:VCALENDAR
