BEGIN:VCALENDAR
VERSION:2.0
PRODID:-//Squarespace Inc/Squarespace 6//v6//EN
BEGIN:VEVENT
UID:58751abb29687fd11bed2316@squarespace.com
DTSTAMP:20170110T173320Z
DTSTART:20170209T220000Z
DTEND:20170209T230000Z
SUMMARY:Decatur Unit 15
GEO:39.884232;-88.9355
LOCATION:IBEW Local 146\, 3390 North Woodford Street\, Decatur\, IL\, 62526
 \, United States
END:VEVENT
END:VCALENDAR
