BEGIN:VCALENDAR
VERSION:2.0
PRODID:-//Squarespace Inc/Squarespace 6//v6//EN
BEGIN:VEVENT
UID:58751916cd0f68e66caff7ec@squarespace.com
DTSTAMP:20170110T172623Z
DTSTART:20170208T210000Z
DTEND:20170208T220000Z
SUMMARY:Baldwin Unit
GEO:38.325745;-89.878519
LOCATION:Bullpen\, 101 North Van Buren Street\, New Athens\, IL\, 62264\, U
 nited States
END:VEVENT
END:VCALENDAR
