BEGIN:VCALENDAR
VERSION:2.0
PRODID:-//Squarespace Inc/Squarespace 6//v6//EN
BEGIN:VEVENT
UID:587518d159cc687833427f4c@squarespace.com
DTSTAMP:20170110T172523Z
DTSTART:20170207T220000Z
DTEND:20170207T230000Z
SUMMARY:Galesburg Unit
GEO:40.951224;-90.361005
LOCATION:American Legion Post 285\, 571 E. North\, Galesburg\, IL
END:VEVENT
END:VCALENDAR
