BEGIN:VCALENDAR
VERSION:2.0
PRODID:-//Squarespace Inc/Squarespace 6//v6//EN
BEGIN:VEVENT
UID:58751765e3df28efe6a5f75b@squarespace.com
DTSTAMP:20170110T171909Z
DTSTART:20170202T220000Z
DTEND:20170202T230000Z
SUMMARY:Wood River Unit
GEO:38.673065;-90.014011
LOCATION:IBEW Local 309\, 2000A Mall Street\, Collinsville\, IL\, 62234\, U
 nited States
END:VEVENT
END:VCALENDAR
