BEGIN:VCALENDAR
VERSION:2.0
PRODID:-//Squarespace Inc/Squarespace 6//v6//EN
BEGIN:VEVENT
UID:58764c94cd0f689c9811a453@squarespace.com
DTSTAMP:20170111T151802Z
DTSTART:20170219T050000Z
DTEND:20170219T060000Z
SUMMARY:Presidents Day
END:VEVENT
END:VCALENDAR
