BEGIN:VCALENDAR
VERSION:2.0
PRODID:-//Squarespace Inc/Squarespace 6//v6//EN
BEGIN:VEVENT
UID:58764bd45016e196ea768ee9@squarespace.com
DTSTAMP:20170111T151519Z
DTSTART:20170218T130000Z
DTEND:20170218T140000Z
SUMMARY:DOT Physicals @ Local 51 Hall
GEO:39.743519;-89.714882
LOCATION:IBEW Local 51\, 3171 Green Head Drive\, Springfield\, IL\, 62711\, 
 United States
END:VEVENT
END:VCALENDAR
