BEGIN:VCALENDAR
VERSION:2.0
PRODID:-//Squarespace Inc/Squarespace 6//v6//EN
BEGIN:VEVENT
UID:58764b1e17bffc46dbe1ae23@squarespace.com
DTSTAMP:20170111T151211Z
DTSTART:20170214T050000Z
DTEND:20170214T060000Z
SUMMARY:Valentine's Day
END:VEVENT
END:VCALENDAR
