BEGIN:VCALENDAR
VERSION:2.0
PRODID:-//Squarespace Inc/Squarespace 6//v6//EN
BEGIN:VEVENT
UID:5875164e5016e1c525b7a20e@squarespace.com
DTSTAMP:20170110T171439Z
DTSTART:20170201T210000Z
DTEND:20170201T220000Z
SUMMARY:Clinton Unit
GEO:38.646298;-94.335936
LOCATION:Elks Lodge #785\, 1520 E. South St.\, Clinton\, IL
END:VEVENT
END:VCALENDAR
