BEGIN:VCALENDAR
VERSION:2.0
PRODID:-//Squarespace Inc/Squarespace 6//v6//EN
BEGIN:VEVENT
UID:5a3a83e0085229908fd36632@squarespace.com
DTSTAMP:20171220T153827Z
DTSTART:20171206T210000Z
DTEND:20171206T220000Z
SUMMARY:Clinton Unit
GEO:40.149904;-88.942707
LOCATION:1520 E. South Street\, Clinton\, IL
END:VEVENT
END:VCALENDAR
