BEGIN:VCALENDAR
VERSION:2.0
PRODID:-//Squarespace Inc/Squarespace 6//v6//EN
BEGIN:VEVENT
UID:5877dd38b8a79ba2a0701653@squarespace.com
DTSTAMP:20171109T201743Z
DTSTART:20171204T220000Z
DTEND:20171204T230000Z
SUMMARY:Galesburg Unit
GEO:40.917279;-90.293151
LOCATION:Knoxville American Legion\, 749 Henderson Road\, Knoxville\, IL\, 
 61448\, United States
END:VEVENT
END:VCALENDAR
