BEGIN:VCALENDAR
VERSION:2.0
PRODID:-//Squarespace Inc/Squarespace 6//v6//EN
BEGIN:VEVENT
UID:5a29973d0852292967d97f8c@squarespace.com
DTSTAMP:20171207T193228Z
DTSTART:20171205T230000Z
DTEND:20171206T000000Z
SUMMARY:Bloomington Unit
GEO:40.448278;-89.02508
LOCATION:IBEW Local 197\, 2407 Beich Road\, Bloomington\, IL\, 61705\, Unit
 ed States
END:VEVENT
END:VCALENDAR
